BEGIN:VCALENDAR
VERSION:2.0
PRODID:-//TTCA - ECPv5.4.0//NONSGML v1.0//EN
CALSCALE:GREGORIAN
METHOD:PUBLISH
X-WR-CALNAME:TTCA
X-ORIGINAL-URL:https://www.ttcausainc.com
X-WR-CALDESC:Events for TTCA
BEGIN:VTIMEZONE
TZID:UTC
BEGIN:STANDARD
TZOFFSETFROM:+0000
TZOFFSETTO:+0000
TZNAME:UTC
DTSTART:20260101T000000
END:STANDARD
END:VTIMEZONE
BEGIN:VEVENT
DTSTART;TZID=UTC:20260509T170000
DTEND;TZID=UTC:20260509T210000
DTSTAMP:20260424T135958
CREATED:20260424T003404Z
LAST-MODIFIED:20260424T004035Z
UID:23764-1778346000-1778360400@www.ttcausainc.com
SUMMARY:May 2026  - TTCA 20th Anniversary
DESCRIPTION:Enter into His gates with thanksgiving\, and into His courts with Praise; be thankful unto Him\, and bless His name. Psalms 100:4 \nGreetings to you all in the Name of our Lord and Savior Jesus Christ\, Please join us for the time of worship\, word and testimonies during the TTCA 20th anniversary meeting on May 9th\, 2025 SATURDAY\, @5PM. \nPlease pray for the speaker Bishop Gerald Williams and invite your friends. \nFellowship dinner follows after the service. \n \nSincerely \nTTCA
URL:https://www.ttcausainc.com/event/may-2026-ttca-20th-anniversary/
LOCATION:Community Baptist Church\, 105 East Ave Norwalk\, CT\, 06851\, United States
CATEGORIES:Bible Study
END:VEVENT
END:VCALENDAR